BEGIN:VCALENDAR
VERSION:2.0
PRODID:-//Adult Hearing - ECPv6.7.1//NONSGML v1.0//EN
CALSCALE:GREGORIAN
METHOD:PUBLISH
X-WR-CALNAME:Adult Hearing
X-ORIGINAL-URL:https://adulthearing.com
X-WR-CALDESC:Events for Adult Hearing
REFRESH-INTERVAL;VALUE=DURATION:PT1H
X-Robots-Tag:noindex
X-PUBLISHED-TTL:PT1H
BEGIN:VTIMEZONE
TZID:Europe/London
BEGIN:DAYLIGHT
TZOFFSETFROM:+0000
TZOFFSETTO:+0100
TZNAME:BST
DTSTART:20210328T010000
END:DAYLIGHT
BEGIN:STANDARD
TZOFFSETFROM:+0100
TZOFFSETTO:+0000
TZNAME:GMT
DTSTART:20211031T010000
END:STANDARD
END:VTIMEZONE
BEGIN:VEVENT
DTSTART;TZID=Europe/London:20210707T060000
DTEND;TZID=Europe/London:20210707T070000
DTSTAMP:20260424T021916
CREATED:20210616T055853Z
LAST-MODIFIED:20210616T061510Z
UID:4365-1625637600-1625641200@adulthearing.com
SUMMARY:CIICA Live in July - Advocacy: How do we do it?
DESCRIPTION:Wednesday 7 July – 06.00 BST\, 07.00 CET\, 01.00 EST\, 22.00 PST \nTuesday 6 July\, 15.00 AEDT\, 17.00 NZ \nAdvocacy work is key to driving forward the changes needed in CI provision -and although we live in different parts of the globe and have differing roles – many of the issues are similar. This CIICA LIVE session will provide the keys to advocacy to influence public policy and practice for CI provision and give practical successful examples to inspire\, with two new focused tools for you. \nPlus the launch CIICAʼs next resources: \n\nChildrenʼs CI Advocacy: evidence from the World Report on Hearing\nAdult CI Advocacy: evidence from the World Report on Hearing\n\nRegister NowAfter registering\, you will receive a confirmation email containing information about joining the meeting. \nMore information at: https://ciicanet.org/events/ciica-live-in-july-advocacy-how-do-we-do-it/
URL:https://adulthearing.com/event/ciica-live-in-july-advocacy-how-do-we-do-it/
CATEGORIES:CIICA,Webinar
ATTACH;FMTTYPE=image/jpeg:https://adulthearing.com/wp-content/uploads/2021/06/CIICA-Event-Logo.jpg
END:VEVENT
END:VCALENDAR