BEGIN:VCALENDAR
VERSION:2.0
PRODID:-//Adult Hearing - ECPv6.7.1//NONSGML v1.0//EN
CALSCALE:GREGORIAN
METHOD:PUBLISH
X-WR-CALNAME:Adult Hearing
X-ORIGINAL-URL:https://adulthearing.com
X-WR-CALDESC:Events for Adult Hearing
REFRESH-INTERVAL;VALUE=DURATION:PT1H
X-Robots-Tag:noindex
X-PUBLISHED-TTL:PT1H
BEGIN:VTIMEZONE
TZID:Europe/Vienna
BEGIN:DAYLIGHT
TZOFFSETFROM:+0100
TZOFFSETTO:+0200
TZNAME:CEST
DTSTART:20210328T010000
END:DAYLIGHT
BEGIN:STANDARD
TZOFFSETFROM:+0200
TZOFFSETTO:+0100
TZNAME:CET
DTSTART:20211031T010000
END:STANDARD
END:VTIMEZONE
BEGIN:VEVENT
DTSTART;TZID=Europe/Vienna:20210708T143000
DTEND;TZID=Europe/Vienna:20210708T163000
DTSTAMP:20260424T040553
CREATED:20210616T050551Z
LAST-MODIFIED:20210616T050551Z
UID:4357-1625754600-1625761800@adulthearing.com
SUMMARY:CSRS: Bimodal in the Adult Population
DESCRIPTION:This seminar covers the bimodal aspects in the adult population hosted by Prof. Ulrich Hoppe from Erlangen. Bimodal is considered as treatment with a Cochlear Implant on one side and a hearing aid on the other side. \nThis webinar gives an overview of the scientific research in this field\, including what bimodal is and how the indication has changed over time. Experts in this field present on the parameters that could have an impact on the outcome\, and what the most important outcome measures are to evaluate the bimodal benefit. In addition\, the seminar addresses the indication boundaries when moving from binaural hearing aids to bimodal as well as the indication when moving from binaural to bilateral Cochlear Implant treatment. An interactive directed discussion covers “Candidacy in the clinical setup”. \nThis programme will be of interest to ENT doctors and Cochlear Implant surgeons\, audiologists\, acousticians and other clinicians and researchers. Captioning in different languages will be available throughout the webinar. \nRegistrations close on 7th July 2021. \nRegister Now
URL:https://adulthearing.com/event/csrs-bimodal-in-the-adult-population/
CATEGORIES:Webinar
ATTACH;FMTTYPE=image/png:https://adulthearing.com/wp-content/uploads/2021/06/AH-Bimodal-in-the-Adult-Population.png
END:VEVENT
END:VCALENDAR