BEGIN:VCALENDAR
VERSION:2.0
PRODID:-//Adult Hearing - ECPv6.7.1//NONSGML v1.0//EN
CALSCALE:GREGORIAN
METHOD:PUBLISH
X-WR-CALNAME:Adult Hearing
X-ORIGINAL-URL:https://adulthearing.com
X-WR-CALDESC:Events for Adult Hearing
REFRESH-INTERVAL;VALUE=DURATION:PT1H
X-Robots-Tag:noindex
X-PUBLISHED-TTL:PT1H
BEGIN:VTIMEZONE
TZID:Australia/Brisbane
BEGIN:STANDARD
TZOFFSETFROM:+1000
TZOFFSETTO:+1000
TZNAME:AEST
DTSTART:20210101T000000
END:STANDARD
END:VTIMEZONE
BEGIN:VEVENT
DTSTART;TZID=Australia/Brisbane:20210101T080000
DTEND;TZID=Australia/Brisbane:20210131T170000
DTSTAMP:20260423T090619
CREATED:20201223T062539Z
LAST-MODIFIED:20201223T062539Z
UID:2904-1609488000-1612112400@adulthearing.com
SUMMARY:Expanding Adult Cochlear Implant Access and Outcomes
DESCRIPTION:Expanding Adult Cochlear Implant Access & Outcomes\nACI Alliance is excited to partner with Audiology Online to offer an informative four-course series this January covering “Expanding Adult Cochlear Implant Access and Outcomes.” \nRegistration is free and open now for the first three courses. CEUs are available for Audiology Online members. \nRegister Now
URL:https://adulthearing.com/event/expanding-adult-cochlear-implant-access-and-outcomes/
ATTACH;FMTTYPE=image/jpeg:https://adulthearing.com/wp-content/uploads/2019/12/ACIA-logo.jpg
END:VEVENT
END:VCALENDAR