BEGIN:VCALENDAR
VERSION:2.0
PRODID:-//Adult Hearing - ECPv6.7.1//NONSGML v1.0//EN
CALSCALE:GREGORIAN
METHOD:PUBLISH
X-WR-CALNAME:Adult Hearing
X-ORIGINAL-URL:https://adulthearing.com
X-WR-CALDESC:Events for Adult Hearing
REFRESH-INTERVAL;VALUE=DURATION:PT1H
X-Robots-Tag:noindex
X-PUBLISHED-TTL:PT1H
BEGIN:VTIMEZONE
TZID:America/New_York
BEGIN:DAYLIGHT
TZOFFSETFROM:-0500
TZOFFSETTO:-0400
TZNAME:EDT
DTSTART:20220313T070000
END:DAYLIGHT
BEGIN:STANDARD
TZOFFSETFROM:-0400
TZOFFSETTO:-0500
TZNAME:EST
DTSTART:20221106T060000
END:STANDARD
END:VTIMEZONE
BEGIN:VEVENT
DTSTART;TZID=America/New_York:20220107T130000
DTEND;TZID=America/New_York:20220107T140000
DTSTAMP:20260426T095620
CREATED:20211119T040335Z
LAST-MODIFIED:20211122T060929Z
UID:5436-1641560400-1641564000@adulthearing.com
SUMMARY:The path to establishing Adiposity-Based Chronic Disease (ABCD): What hearing health may learn from endocrinology
DESCRIPTION:Presented by Jeffrey I. Mechanick\, MD \nDr Mechanick is Clinical Professor of Medicine\, Endocrinology\, Diabetes and Bone Disease at the Icahn School of Medicine at Mount Sinai and Director of Metabolic Support\, The Mount Sinai Hospital. \nRegister NowSimilar to the recent Delphi Consensus on the treatment of moderate to profound sensorineural hearing loss in adults\, as a direct output of the American Association of Clinical Endocrinologists (AACE) and the American College of Endocrinology (ACE) 2014 Consensus Conference on Obesity\, a group of professionals in endocrinology spearheaded the effort to overcome the barriers to treating. \nIn 2012\, AACE first declared obesity as a disease state\, an assessment officially adopted by the American Medical Association in 2014. The new term – Adiposity-Based Chronic Disease or ABCD – focuses on the characteristic pathophysiological effects of excess weight\, rather than the weight itself\, and offers medical professionals standardized protocols for weight loss and treatments for obesity-related conditions. \nRedefining obesity to address the negative impact on health outcomes reduced general confusion and also the stigma associated with obesity leading to improvements in screening and access to appropriate treatment.
URL:https://adulthearing.com/event/the-path-to-establishing-adiposity-based-chronic-disease/
CATEGORIES:Hearing Health Collaborative,Webinar
ATTACH;FMTTYPE=image/png:https://adulthearing.com/wp-content/uploads/2021/11/Path-to-Establishing-ABCD.png
END:VEVENT
END:VCALENDAR