BEGIN:VCALENDAR
VERSION:2.0
PRODID:-//Adult Hearing - ECPv6.7.1//NONSGML v1.0//EN
CALSCALE:GREGORIAN
METHOD:PUBLISH
X-ORIGINAL-URL:https://adulthearing.com
X-WR-CALDESC:Events for Adult Hearing
REFRESH-INTERVAL;VALUE=DURATION:PT1H
X-Robots-Tag:noindex
X-PUBLISHED-TTL:PT1H
BEGIN:VTIMEZONE
TZID:Pacific/Auckland
BEGIN:STANDARD
TZOFFSETFROM:+1300
TZOFFSETTO:+1200
TZNAME:NZST
DTSTART:20200404T140000
END:STANDARD
BEGIN:DAYLIGHT
TZOFFSETFROM:+1200
TZOFFSETTO:+1300
TZNAME:NZDT
DTSTART:20200926T140000
END:DAYLIGHT
END:VTIMEZONE
BEGIN:VEVENT
DTSTART;TZID=Pacific/Auckland:20201008T120000
DTEND;TZID=Pacific/Auckland:20201008T130000
DTSTAMP:20260423T073811
CREATED:20200918T031049Z
LAST-MODIFIED:20200918T032711Z
UID:2357-1602158400-1602162000@adulthearing.com
SUMMARY:Untreated severe-to-profound hearing loss and the cochlear implant situation: how policy and practice are disabling New Zealand society
DESCRIPTION:In this webinar\, we talk to Cochlear implant user and advocate\, Dr Lewis Williams\, whose paper ‘Untreated severe-to-profound hearing loss and the cochlear implant situation: how policy and practice are disabling New Zealand society’ was published last year in the New Zealand Medical Journal. \nLewis will be discussing the importance of advocacy in a time when funding for cochlear implants for adults is at crisis levels in New Zealand\, and what her own experiences of severe hearing loss have taught her. \nRegister For This Webinar
URL:https://adulthearing.com/event/untreated-severe-to-profound-hearing-loss-and-the-cochlear-implant-situation-how-policy-and-practice-are-disabling-new-zealand-society/
CATEGORIES:Pindrop Foundation,Webinar
ATTACH;FMTTYPE=image/jpeg:https://adulthearing.com/wp-content/uploads/2020/04/Pindrop-Logo.jpg
END:VEVENT
END:VCALENDAR